Workbook

Sheet エントリー表・２部以下
A1: 中国大学バレーボールリーグ戦 ２部以下パンフレットフォーマット
A3: チーム名 | B3: 中国大学薬学部
A4: チーム所在地 | B4: 広島県安佐北区…
A5: 連絡先 | B5: chugokugakuren@…
A7: 代表者名 | B7: 学連 太郎 携帯（ ）
A8: コメント（必ず記入して下さい。） | B8: 頑張るぞ！
A9: 前大会順位（2部のみ） | C9: 2部1位
A10: 部 長 | B10: 学連 一郎 | C10: 監 督 | D10: 学連 二郎 | E10: コーチ | F10: 学連 三郎
A11: トレーナー | B11: 学連 四郎 | C11: マネージャー | D11: 学連 五郎
A12: ※主将には○をつけること
A13: 番号 | B13: 氏 名 | C13: 学年 | D13: ポジション | E13: 身 長 | F13: 出身校
A14: ① | B14: 学連 一郎 | C14: 1 | D14: OH | E14: 180 | F14: 大村工業
A15: 2 | B15: 学連 二郎 | C15: 2 | D15: OH | E15: 176 | F15: 崇徳
A16: 3 | B16: 学連 三郎 | C16: 2 | D16: MB | E16: 182
A17: 4 | B17: 学連 四郎 | C17: 3 | D17: L | E17: 165 | F17: 岡山東商
A18: 5 | B18: 学連 五郎 | C18: 1 | D18: S | E18: 175 | F18: 大阪産業
A19: 6 | B19: 学連 六郎 | C19: 4 | D19: OH | E19: 175 | F19: 鎮西
A20: 7 | B20: 学連 七郎 | C20: 2 | D20: OP | E20: 190 | F20: 洛南

Sheet パンフレット　2部用
B1: =エントリー表・２部以下!C9 -> 2部1位 | D1: =CONCATENATE(エントリー表・２部以下!B3) -> 中国大学薬学部
A2: ユニフォームの背番号と選手、スタッフの顔がはっきり見えるように整列し、撮影してください。 中国学連が不適切と判断した場合は 再提出を求めます。
I3: 部長 | K3: =エントリー表・２部以下!B10 -> 学連 一郎 | N3: 監督 | P3: =エントリー表・２部以下!D10 -> 学連 二郎
I5: コーチ | K5: =エントリー表・２部以下!F10 -> 学連 三郎 | N5: トレーナー | P5: =エントリー表・２部以下!B11 -> 学連 四郎
I7: マネージャー | L7: =エントリー表・２部以下!D11 -> 学連 五郎
I9: コメント
I10: =エントリー表・２部以下!B8 -> 頑張るぞ！
A13: No. | B13: 氏名 | C13: 学年 | D13: ポジション | E13: 身長 | F13: 出身校 | I13: No. | J13: 氏名 | L13: 学年 | M13: ポジション | O13: 身長 | Q13: 出身校
A14: =エントリー表・２部以下!A14 -> ① | B14: =エントリー表・２部以下!B14 -> 学連 一郎 | C14: =エントリー表・２部以下!C14 -> 1 | D14: =エントリー表・２部以下!D14 -> OH | E14: =エントリー表・２部以下!E14 -> 180 | F14: =エントリー表・２部以下!F14 -> 大村工業 | I14: =エントリー表・２部以下!A22 -> 0 | J14: =エントリー表・２部以下!B22 -> 0 | L14: =エントリー表・２部以下!C22 -> 0 | M14: =エントリー表・２部以下!D22 -> 0 | O14: =エントリー表・２部以下!E22 -> 0 | Q14: =エントリー表・２部以下!F22 -> 0
A15: =エントリー表・２部以下!A15 -> 2 | B15: =エントリー表・２部以下!B15 -> 学連 二郎 | C15: =エントリー表・２部以下!C15 -> 2 | D15: =エントリー表・２部以下!D15 -> OH | E15: =エントリー表・２部以下!E15 -> 176 | F15: =エントリー表・２部以下!F15 -> 崇徳 | I15: =エントリー表・２部以下!A23 -> 0 | J15: =エントリー表・２部以下!B23 -> 0 | L15: =エントリー表・２部以下!C23 -> 0 | M15: =エントリー表・２部以下!D23 -> 0 | O15: =エントリー表・２部以下!E23 -> 0 | Q15: =エントリー表・２部以下!F23 -> 0
A16: =エントリー表・２部以下!A16 -> 3 | B16: =エントリー表・２部以下!B16 -> 学連 三郎 | C16: =エントリー表・２部以下!C16 -> 2 | D16: =エントリー表・２部以下!D16 -> MB | E16: =エントリー表・２部以下!E16 -> 182 | F16: =エントリー表・２部以下!F16 | I16: =エントリー表・２部以下!A24 -> 0 | J16: =エントリー表・２部以下!B24 -> 0 | L16: =エントリー表・２部以下!C24 -> 0 | M16: =エントリー表・２部以下!D24 -> 0 | O16: =エントリー表・２部以下!E24 -> 0 | Q16: =エントリー表・２部以下!F24 -> 0
A17: =エントリー表・２部以下!A17 -> 4 | B17: =エントリー表・２部以下!B17 -> 学連 四郎 | C17: =エントリー表・２部以下!C17 -> 3 | D17: =エントリー表・２部以下!D17 -> L | E17: =エントリー表・２部以下!E17 -> 165 | F17: =エントリー表・２部以下!F17 -> 岡山東商 | I17: =エントリー表・２部以下!A25 -> 0 | J17: =エントリー表・２部以下!B25 -> 0 | L17: =エントリー表・２部以下!C25 -> 0 | M17: =エントリー表・２部以下!D25 -> 0 | O17: =エントリー表・２部以下!E25 -> 0 | Q17: =エントリー表・２部以下!F25 -> 0
A18: =エントリー表・２部以下!A18 -> 5 | B18: =エントリー表・２部以下!B18 -> 学連 五郎 | C18: =エントリー表・２部以下!C18 -> 1 | D18: =エントリー表・２部以下!D18 -> S | E18: =エントリー表・２部以下!E18 -> 175 | F18: =エントリー表・２部以下!F18 -> 大阪産業 | I18: =エントリー表・２部以下!A26 -> 0 | J18: =エントリー表・２部以下!B26 -> 0 | L18: =エントリー表・２部以下!C26 -> 0 | M18: =エントリー表・２部以下!D26 -> 0 | O18: =エントリー表・２部以下!E26 -> 0 | Q18: =エントリー表・２部以下!F26 -> 0
A19: =エントリー表・２部以下!A19 -> 6 | B19: =エントリー表・２部以下!B19 -> 学連 六郎 | C19: =エントリー表・２部以下!C19 -> 4 | D19: =エントリー表・２部以下!D19 -> OH | E19: =エントリー表・２部以下!E19 -> 175 | F19: =エントリー表・２部以下!F19 -> 鎮西 | I19: =エントリー表・２部以下!A27 -> 0 | J19: =エントリー表・２部以下!B27 -> 0 | L19: =エントリー表・２部以下!C27 -> 0 | M19: =エントリー表・２部以下!D27 -> 0 | O19: =エントリー表・２部以下!E27 -> 0 | Q19: =エントリー表・２部以下!F27 -> 0
A20: =エントリー表・２部以下!A20 -> 7 | B20: =エントリー表・２部以下!B20 -> 学連 七郎 | C20: =エントリー表・２部以下!C20 -> 2 | D20: =エントリー表・２部以下!D20 -> OP | E20: =エントリー表・２部以下!E20 -> 190 | F20: =エントリー表・２部以下!F20 -> 洛南 | I20: =エントリー表・２部以下!A28 -> 0 | J20: =エントリー表・２部以下!B28 -> 0 | L20: =エントリー表・２部以下!C28 -> 0 | M20: =エントリー表・２部以下!D28 -> 0 | O20: =エントリー表・２部以下!E28 -> 0 | Q20: =エントリー表・２部以下!F28 -> 0
A21: =エントリー表・２部以下!A21 -> 0 | B21: =エントリー表・２部以下!B21 -> 0 | C21: =エントリー表・２部以下!C21 -> 0 | D21: =エントリー表・２部以下!D21 -> 0 | E21: =エントリー表・２部以下!E21 -> 0 | F21: =エントリー表・２部以下!F21 -> 0 | I21: =エントリー表・２部以下!A29 -> 0 | J21: =エントリー表・２部以下!B29 -> 0 | L21: =エントリー表・２部以下!C29 -> 0 | M21: =エントリー表・２部以下!D29 -> 0 | O21: =エントリー表・２部以下!E29 -> 0 | Q21: =エントリー表・２部以下!F29 -> 0

Sheet パンフレット 　チャレンジ用
A1: =CONCATENATE(エントリー表・２部以下!B3) -> 中国大学薬学部
A2: ここにチーム写真を貼り付けてください。 ユニフォームの背番号と選手、スタッフの顔がはっきり見えるように整列し、撮影してください。 中国学連が不適切と判断した場合は 再提出を求めます。
I3: 部長 | K3: =エントリー表・２部以下!B10 -> 学連 一郎 | N3: 監督 | P3: =エントリー表・２部以下!D10 -> 学連 二郎
I5: コーチ | K5: =エントリー表・２部以下!F10 -> 学連 三郎 | N5: トレーナー | P5: =エントリー表・２部以下!B11 -> 学連 四郎
I7: マネージャー | L7: =エントリー表・２部以下!D11 -> 学連 五郎
I9: コメント
I10: =エントリー表・２部以下!B8 -> 頑張るぞ！
A13: No. | B13: 氏名 | C13: 学年 | D13: ポジション | E13: 身長 | F13: 出身校 | I13: No. | J13: 氏名 | L13: 学年 | M13: ポジション | O13: 身長 | Q13: 出身校
A14: =エントリー表・２部以下!A14 -> ① | B14: =エントリー表・２部以下!B14 -> 学連 一郎 | C14: =エントリー表・２部以下!C14 -> 1 | D14: =エントリー表・２部以下!D14 -> OH | E14: =エントリー表・２部以下!E14 -> 180 | F14: =エントリー表・２部以下!F14 -> 大村工業 | I14: =エントリー表・２部以下!A22 -> 0 | J14: =エントリー表・２部以下!B22 -> 0 | L14: =エントリー表・２部以下!C22 -> 0 | M14: =エントリー表・２部以下!D22 -> 0 | O14: =エントリー表・２部以下!E22 -> 0 | Q14: =エントリー表・２部以下!F22 -> 0
A15: =エントリー表・２部以下!A15 -> 2 | B15: =エントリー表・２部以下!B15 -> 学連 二郎 | C15: =エントリー表・２部以下!C15 -> 2 | D15: =エントリー表・２部以下!D15 -> OH | E15: =エントリー表・２部以下!E15 -> 176 | F15: =エントリー表・２部以下!F15 -> 崇徳 | I15: =エントリー表・２部以下!A23 -> 0 | J15: =エントリー表・２部以下!B23 -> 0 | L15: =エントリー表・２部以下!C23 -> 0 | M15: =エントリー表・２部以下!D23 -> 0 | O15: =エントリー表・２部以下!E23 -> 0 | Q15: =エントリー表・２部以下!F23 -> 0
A16: =エントリー表・２部以下!A16 -> 3 | B16: =エントリー表・２部以下!B16 -> 学連 三郎 | C16: =エントリー表・２部以下!C16 -> 2 | D16: =エントリー表・２部以下!D16 -> MB | E16: =エントリー表・２部以下!E16 -> 182 | F16: =エントリー表・２部以下!F16 | I16: =エントリー表・２部以下!A24 -> 0 | J16: =エントリー表・２部以下!B24 -> 0 | L16: =エントリー表・２部以下!C24 -> 0 | M16: =エントリー表・２部以下!D24 -> 0 | O16: =エントリー表・２部以下!E24 -> 0 | Q16: =エントリー表・２部以下!F24 -> 0
A17: =エントリー表・２部以下!A17 -> 4 | B17: =エントリー表・２部以下!B17 -> 学連 四郎 | C17: =エントリー表・２部以下!C17 -> 3 | D17: =エントリー表・２部以下!D17 -> L | E17: =エントリー表・２部以下!E17 -> 165 | F17: =エントリー表・２部以下!F17 -> 岡山東商 | I17: =エントリー表・２部以下!A25 -> 0 | J17: =エントリー表・２部以下!B25 -> 0 | L17: =エントリー表・２部以下!C25 -> 0 | M17: =エントリー表・２部以下!D25 -> 0 | O17: =エントリー表・２部以下!E25 -> 0 | Q17: =エントリー表・２部以下!F25 -> 0
A18: =エントリー表・２部以下!A18 -> 5 | B18: =エントリー表・２部以下!B18 -> 学連 五郎 | C18: =エントリー表・２部以下!C18 -> 1 | D18: =エントリー表・２部以下!D18 -> S | E18: =エントリー表・２部以下!E18 -> 175 | F18: =エントリー表・２部以下!F18 -> 大阪産業 | I18: =エントリー表・２部以下!A26 -> 0 | J18: =エントリー表・２部以下!B26 -> 0 | L18: =エントリー表・２部以下!C26 -> 0 | M18: =エントリー表・２部以下!D26 -> 0 | O18: =エントリー表・２部以下!E26 -> 0 | Q18: =エントリー表・２部以下!F26 -> 0
A19: =エントリー表・２部以下!A19 -> 6 | B19: =エントリー表・２部以下!B19 -> 学連 六郎 | C19: =エントリー表・２部以下!C19 -> 4 | D19: =エントリー表・２部以下!D19 -> OH | E19: =エントリー表・２部以下!E19 -> 175 | F19: =エントリー表・２部以下!F19 -> 鎮西 | I19: =エントリー表・２部以下!A27 -> 0 | J19: =エントリー表・２部以下!B27 -> 0 | L19: =エントリー表・２部以下!C27 -> 0 | M19: =エントリー表・２部以下!D27 -> 0 | O19: =エントリー表・２部以下!E27 -> 0 | Q19: =エントリー表・２部以下!F27 -> 0
A20: =エントリー表・２部以下!A20 -> 7 | B20: =エントリー表・２部以下!B20 -> 学連 七郎 | C20: =エントリー表・２部以下!C20 -> 2 | D20: =エントリー表・２部以下!D20 -> OP | E20: =エントリー表・２部以下!E20 -> 190 | F20: =エントリー表・２部以下!F20 -> 洛南 | I20: =エントリー表・２部以下!A28 -> 0 | J20: =エントリー表・２部以下!B28 -> 0 | L20: =エントリー表・２部以下!C28 -> 0 | M20: =エントリー表・２部以下!D28 -> 0 | O20: =エントリー表・２部以下!E28 -> 0 | Q20: =エントリー表・２部以下!F28 -> 0
A21: =エントリー表・２部以下!A21 -> 0 | B21: =エントリー表・２部以下!B21 -> 0 | C21: =エントリー表・２部以下!C21 -> 0 | D21: =エントリー表・２部以下!D21 -> 0 | E21: =エントリー表・２部以下!E21 -> 0 | F21: =エントリー表・２部以下!F21 -> 0 | I21: =エントリー表・２部以下!A29 -> 0 | J21: =エントリー表・２部以下!B29 -> 0 | L21: =エントリー表・２部以下!C29 -> 0 | M21: =エントリー表・２部以下!D29 -> 0 | O21: =エントリー表・２部以下!E29 -> 0 | Q21: =エントリー表・２部以下!F29 -> 0
