Workbook

Sheet エントリー表・１部
A1: 中国大学バレーボールリーグ戦 男女１部パンフレットフォーマット
A2: チーム名 | E2: チーム所在地
A3: 代表者氏名 | E3: 連絡先
A4: 前大会順位 | B4: 1部 位 | E4: チーム紹介
A5: 部長
A6: 監督
A7: コーチ
A8: トレーナー
A9: マネージャー
A10: 主将
A11: 番号 | B11: 氏 名 | C11: ふりがな | D11: 学年 | E11: ポジション | F11: 身長 | G11: 最高到達点 | H11: 出身校 | I11: コメント（必ず記入して下さい）

Sheet パンフレット１
B1: 選手名紹介
B3: =エントリー表・１部!B4 -> 1部 位 | D3: =エントリー表・１部!B2 -> 0
A5: ここにチーム写真を貼り付けてください。 ユニフォームの背番号と選手、スタッフの顔がはっきり見えるように整列し、 撮影してください。 パンフレットに掲載するにあたって適切な写真を張り付けてください。 中国学連が不適切と判断した場合は再提出を求めます。
A29: 2026 CHUGOKU VOLLEYBALL LEAGUE
B31: ここに 個人写真を 張り付けて ください | D31: ここに 個人写真を 張り付けて ください | F31: ここに 個人写真を 張り付けて ください | H31: ここに 個人写真を 張り付けて ください | J31: ここに 個人写真を 張り付けて ください | L31: ここに 個人写真を 張り付けて ください
B38: 部長 | D38: 監督 | F38: コーチ | H38: トレーナー | J38: マネージャー | L38: 主将
B39: =エントリー表・１部!B5 -> 0 | D39: =エントリー表・１部!B6 -> 0 | F39: =エントリー表・１部!B7 -> 0 | H39: =エントリー表・１部!B8 -> 0 | J39: =エントリー表・１部!B9 -> 0 | L39: =エントリー表・１部!B10 -> 0
A43: チーム紹介
B45: =エントリー表・１部!E5 -> 0

Sheet パンフレット２
D2: =エントリー表・１部!C12 -> 0 | H2: =エントリー表・１部!C13 -> 0 | L2: =エントリー表・１部!C14 -> 0 | P2: =エントリー表・１部!C15 -> 0
B3: ここに 個人写真を 張り付けて ください | D3: =CONCATENATE(エントリー表・１部!A12,"・",エントリー表・１部!B12) -> ・ | F3: ここに 個人写真を 張り付けて ください | H3: =CONCATENATE(エントリー表・１部!A13,"・",エントリー表・１部!B13) -> ・ | J3: ここに 個人写真を 張り付けて ください | L3: =CONCATENATE(エントリー表・１部!A14,"・",エントリー表・１部!B14) -> ・ | N3: ここに 個人写真を 張り付けて ください | P3: =CONCATENATE(エントリー表・１部!A15,"・",エントリー表・１部!B15) -> ・
D4: =CONCATENATE(エントリー表・１部!D12,"年","・",エントリー表・１部!F12,"cm") -> 年・cm | H4: =CONCATENATE(エントリー表・１部!D13,"年","・",エントリー表・１部!F13,"cm") -> 年・cm | L4: =CONCATENATE(エントリー表・１部!D14,"年","・",エントリー表・１部!F14,"cm") -> 年・cm | P4: =CONCATENATE(エントリー表・１部!D15,"年","・",エントリー表・１部!F15,"cm") -> 年・cm
D5: =CONCATENATE(エントリー表・１部!E12,"・",エントリー表・１部!G12,"cm") -> ・cm | H5: =CONCATENATE(エントリー表・１部!E13,"・",エントリー表・１部!G13,"cm") -> ・cm | L5: =CONCATENATE(エントリー表・１部!E14,"・",エントリー表・１部!G14,"cm") -> ・cm | P5: =CONCATENATE(エントリー表・１部!E15,"・",エントリー表・１部!G15,"cm") -> ・cm
D6: =エントリー表・１部!H12 -> 0 | H6: =エントリー表・１部!H13 -> 0 | L6: =エントリー表・１部!H14 -> 0 | P6: =エントリー表・１部!H15 -> 0
D7: =エントリー表・１部!I12 -> 0 | H7: =エントリー表・１部!I13 -> 0 | L7: =エントリー表・１部!I14 -> 0 | P7: =エントリー表・１部!I15 -> 0
D11: =エントリー表・１部!C16 -> 0 | H11: =エントリー表・１部!C17 -> 0 | L11: =エントリー表・１部!C18 -> 0 | P11: =エントリー表・１部!C19 -> 0
B12: ここに 個人写真を 張り付けて ください | D12: =CONCATENATE(エントリー表・１部!A16,"・",エントリー表・１部!B16) -> ・ | F12: ここに 個人写真を 張り付けて ください | H12: =CONCATENATE(エントリー表・１部!A17,"・",エントリー表・１部!B17) -> ・ | J12: ここに 個人写真を 張り付けて ください | L12: =CONCATENATE(エントリー表・１部!A18,"・",エントリー表・１部!B18) -> ・ | N12: ここに 個人写真を 張り付けて ください | P12: =CONCATENATE(エントリー表・１部!A19,"・",エントリー表・１部!B19) -> ・
D13: =CONCATENATE(エントリー表・１部!D16,"年","・",エントリー表・１部!F16,"cm") -> 年・cm | H13: =CONCATENATE(エントリー表・１部!D17,"年","・",エントリー表・１部!F17,"cm") -> 年・cm | L13: =CONCATENATE(エントリー表・１部!D18,"年","・",エントリー表・１部!F18,"cm") -> 年・cm | P13: =CONCATENATE(エントリー表・１部!D19,"年","・",エントリー表・１部!F19,"cm") -> 年・cm
D14: =CONCATENATE(エントリー表・１部!E16,"・",エントリー表・１部!G16,"cm") -> ・cm | H14: =CONCATENATE(エントリー表・１部!E17,"・",エントリー表・１部!G17,"cm") -> ・cm | L14: =CONCATENATE(エントリー表・１部!E18,"・",エントリー表・１部!G18,"cm") -> ・cm | P14: =CONCATENATE(エントリー表・１部!E19,"・",エントリー表・１部!G19,"cm") -> ・cm
D15: =エントリー表・１部!H16 -> 0 | H15: =エントリー表・１部!H17 -> 0 | L15: =エントリー表・１部!H18 -> 0 | P15: =エントリー表・１部!H19 -> 0
D16: =エントリー表・１部!I16 -> 0 | H16: =エントリー表・１部!I17 -> 0 | L16: =エントリー表・１部!I18 -> 0 | P16: =エントリー表・１部!I19 -> 0
D20: =エントリー表・１部!C20 -> 0 | H20: =エントリー表・１部!C21 -> 0 | L20: =エントリー表・１部!C22 -> 0 | P20: =エントリー表・１部!C23 -> 0
B21: ここに 個人写真を 張り付けて ください | D21: =CONCATENATE(エントリー表・１部!A20,"・",エントリー表・１部!B20) -> ・ | F21: ここに 個人写真を 張り付けて ください | H21: =CONCATENATE(エントリー表・１部!A21,"・",エントリー表・１部!B21) -> ・ | J21: ここに 個人写真を 張り付けて ください | L21: =CONCATENATE(エントリー表・１部!A22,"・",エントリー表・１部!B22) -> ・ | N21: ここに 個人写真を 張り付けて ください | P21: =CONCATENATE(エントリー表・１部!A23,"・",エントリー表・１部!B23) -> ・
D22: =CONCATENATE(エントリー表・１部!D20,"年","・",エントリー表・１部!F20,"cm") -> 年・cm | H22: =CONCATENATE(エントリー表・１部!D21,"年","・",エントリー表・１部!F21,"cm") -> 年・cm | L22: =CONCATENATE(エントリー表・１部!D22,"年","・",エントリー表・１部!F22,"cm") -> 年・cm | P22: =CONCATENATE(エントリー表・１部!D23,"年","・",エントリー表・１部!F23,"cm") -> 年・cm
D23: =CONCATENATE(エントリー表・１部!E20,"・",エントリー表・１部!G20,"cm") -> ・cm | H23: =CONCATENATE(エントリー表・１部!E21,"・",エントリー表・１部!G21,"cm") -> ・cm | L23: =CONCATENATE(エントリー表・１部!E22,"・",エントリー表・１部!G22,"cm") -> ・cm | P23: =CONCATENATE(エントリー表・１部!E23,"・",エントリー表・１部!G23,"cm") -> ・cm
D24: =エントリー表・１部!H20 -> 0 | H24: =エントリー表・１部!H21 -> 0 | L24: =エントリー表・１部!H22 -> 0 | P24: =エントリー表・１部!H23 -> 0
D25: =エントリー表・１部!I20 -> 0 | H25: =エントリー表・１部!I21 -> 0 | L25: =エントリー表・１部!I22 -> 0 | P25: =エントリー表・１部!I23 -> 0
D29: =エントリー表・１部!C24 -> 0 | H29: =エントリー表・１部!C25 -> 0 | L29: =エントリー表・１部!C26 -> 0 | P29: =エントリー表・１部!C27 -> 0
B30: ここに 個人写真を 張り付けて ください | D30: =CONCATENATE(エントリー表・１部!A24,"・",エントリー表・１部!B24) -> ・ | F30: ここに 個人写真を 張り付けて ください | H30: =CONCATENATE(エントリー表・１部!A25,"・",エントリー表・１部!B25) -> ・ | J30: ここに 個人写真を 張り付けて ください | L30: =CONCATENATE(エントリー表・１部!A26,"・",エントリー表・１部!B26) -> ・ | N30: ここに 個人写真を 張り付けて ください | P30: =CONCATENATE(エントリー表・１部!A27,"・",エントリー表・１部!B27) -> ・
D31: =CONCATENATE(エントリー表・１部!D24,"年","・",エントリー表・１部!F24,"cm") -> 年・cm | H31: =CONCATENATE(エントリー表・１部!D25,"年","・",エントリー表・１部!F25,"cm") -> 年・cm | L31: =CONCATENATE(エントリー表・１部!D26,"年","・",エントリー表・１部!F26,"cm") -> 年・cm | P31: =CONCATENATE(エントリー表・１部!D27,"年","・",エントリー表・１部!F27,"cm") -> 年・cm
D32: =CONCATENATE(エントリー表・１部!E24,"・",エントリー表・１部!G24,"cm") -> ・cm | H32: =CONCATENATE(エントリー表・１部!E25,"・",エントリー表・１部!G25,"cm") -> ・cm | L32: =CONCATENATE(エントリー表・１部!E26,"・",エントリー表・１部!G26,"cm") -> ・cm | P32: =CONCATENATE(エントリー表・１部!E27,"・",エントリー表・１部!G27,"cm") -> ・cm
D33: =エントリー表・１部!H24 -> 0 | H33: =エントリー表・１部!H25 -> 0 | L33: =エントリー表・１部!H26 -> 0 | P33: =エントリー表・１部!H27 -> 0
D34: =エントリー表・１部!I24 -> 0 | H34: =エントリー表・１部!I25 -> 0 | L34: =エントリー表・１部!I26 -> 0 | P34: =エントリー表・１部!I27 -> 0
D38: =エントリー表・１部!C28 -> 0 | H38: =エントリー表・１部!C29 -> 0 | L38: =エントリー表・１部!C30 -> 0 | P38: =エントリー表・１部!C31 -> 0
B39: ここに 個人写真を 張り付けて ください | D39: =CONCATENATE(エントリー表・１部!A28,"・",エントリー表・１部!B28) -> ・ | F39: ここに 個人写真を 張り付けて ください | H39: =CONCATENATE(エントリー表・１部!A29,"・",エントリー表・１部!B29) -> ・ | J39: ここに 個人写真を 張り付けて ください | L39: =CONCATENATE(エントリー表・１部!A30,"・",エントリー表・１部!B30) -> ・ | N39: ここに 個人写真を 張り付けて ください | P39: =CONCATENATE(エントリー表・１部!A31,"・",エントリー表・１部!B31) -> ・
D40: =CONCATENATE(エントリー表・１部!D28,"年","・",エントリー表・１部!F28,"cm") -> 年・cm | H40: =CONCATENATE(エントリー表・１部!D29,"年","・",エントリー表・１部!F29,"cm") -> 年・cm | L40: =CONCATENATE(エントリー表・１部!D30,"年","・",エントリー表・１部!F30,"cm") -> 年・cm | P40: =CONCATENATE(エントリー表・１部!D31,"年","・",エントリー表・１部!F31,"cm") -> 年・cm
D41: =CONCATENATE(エントリー表・１部!E28,"・",エントリー表・１部!G28,"cm") -> ・cm | H41: =CONCATENATE(エントリー表・１部!E29,"・",エントリー表・１部!G29,"cm") -> ・cm | L41: =CONCATENATE(エントリー表・１部!E30,"・",エントリー表・１部!G30,"cm") -> ・cm | P41: =CONCATENATE(エントリー表・１部!E31,"・",エントリー表・１部!G31,"cm") -> ・cm
D42: =エントリー表・１部!H28 -> 0 | H42: =エントリー表・１部!H29 -> 0 | L42: =エントリー表・１部!H30 -> 0 | P42: =エントリー表・１部!H31 -> 0
D43: =エントリー表・１部!I28 -> 0 | H43: =エントリー表・１部!I29 -> 0 | L43: =エントリー表・１部!I30 -> 0 | P43: =エントリー表・１部!I31 -> 0
D47: =エントリー表・１部!C32 -> 0 | H47: =エントリー表・１部!C33 -> 0 | L47: =エントリー表・１部!C34 -> 0 | P47: =エントリー表・１部!C35 -> 0
B48: ここに 個人写真を 張り付けて ください | D48: =CONCATENATE(エントリー表・１部!A32,"・",エントリー表・１部!B32) -> ・ | F48: ここに 個人写真を 張り付けて ください | H48: =CONCATENATE(エントリー表・１部!A33,"・",エントリー表・１部!B33) -> ・ | J48: ここに 個人写真を 張り付けて ください | L48: =CONCATENATE(エントリー表・１部!A34,"・",エントリー表・１部!B34) -> ・ | N48: ここに 個人写真を 張り付けて ください | P48: =CONCATENATE(エントリー表・１部!A35,"・",エントリー表・１部!B35) -> ・
D49: =CONCATENATE(エントリー表・１部!D32,"年","・",エントリー表・１部!F32,"cm") -> 年・cm | H49: =CONCATENATE(エントリー表・１部!D33,"年","・",エントリー表・１部!F33,"cm") -> 年・cm | L49: =CONCATENATE(エントリー表・１部!D34,"年","・",エントリー表・１部!F34,"cm") -> 年・cm | P49: =CONCATENATE(エントリー表・１部!D35,"年","・",エントリー表・１部!F35,"cm") -> 年・cm
D50: =CONCATENATE(エントリー表・１部!E32,"・",エントリー表・１部!G32,"cm") -> ・cm | H50: =CONCATENATE(エントリー表・１部!E33,"・",エントリー表・１部!G33,"cm") -> ・cm | L50: =CONCATENATE(エントリー表・１部!E34,"・",エントリー表・１部!G34,"cm") -> ・cm | P50: =CONCATENATE(エントリー表・１部!E35,"・",エントリー表・１部!G35,"cm") -> ・cm
D51: =エントリー表・１部!H32 -> 0 | H51: =エントリー表・１部!H33 -> 0 | L51: =エントリー表・１部!H34 -> 0 | P51: =エントリー表・１部!H35 -> 0
D52: =エントリー表・１部!I32 -> 0 | H52: =エントリー表・１部!I33 -> 0 | L52: =エントリー表・１部!I34 -> 0 | P52: =エントリー表・１部!I35 -> 0
D56: =エントリー表・１部!C36 -> 0 | H56: =エントリー表・１部!C37 -> 0 | L56: =エントリー表・１部!C38 -> 0 | P56: =エントリー表・１部!C39 -> 0
B57: ここに 個人写真を 張り付けて ください | D57: =CONCATENATE(エントリー表・１部!A36,"・",エントリー表・１部!B36) -> ・ | F57: ここに 個人写真を 張り付けて ください | H57: =CONCATENATE(エントリー表・１部!A37,"・",エントリー表・１部!B37) -> ・ | J57: ここに 個人写真を 張り付けて ください | L57: =CONCATENATE(エントリー表・１部!A38,"・",エントリー表・１部!B38) -> ・ | N57: ここに 個人写真を 張り付けて ください | P57: =CONCATENATE(エントリー表・１部!A39,"・",エントリー表・１部!B39) -> ・
D58: =CONCATENATE(エントリー表・１部!D36,"年","・",エントリー表・１部!F36,"cm") -> 年・cm | H58: =CONCATENATE(エントリー表・１部!D37,"年","・",エントリー表・１部!F37,"cm") -> 年・cm | L58: =CONCATENATE(エントリー表・１部!D38,"年","・",エントリー表・１部!F38,"cm") -> 年・cm | P58: =CONCATENATE(エントリー表・１部!D39,"年","・",エントリー表・１部!F39,"cm") -> 年・cm
D59: =CONCATENATE(エントリー表・１部!E36,"・",エントリー表・１部!G36,"cm") -> ・cm | H59: =CONCATENATE(エントリー表・１部!E37,"・",エントリー表・１部!G37,"cm") -> ・cm | L59: =CONCATENATE(エントリー表・１部!E38,"・",エントリー表・１部!G38,"cm") -> ・cm | P59: =CONCATENATE(エントリー表・１部!E39,"・",エントリー表・１部!G39,"cm") -> ・cm
...
