Workbook

Sheet エントリー表・１部
A1: 中国大学バレーボールリーグ戦 男女１部パンフレットフォーマット
A2: チーム名 | E2: チーム所在地
A3: 代表者氏名 | E3: 連絡先
A4: 前大会順位 | B4: 1部 位 | E4: チーム紹介
A5: 部長
A6: 監督
A7: コーチ
A8: トレーナー
A9: マネージャー
A10: 主将
A11: 番号 | B11: 氏 名 | C11: ふりがな | D11: 学年 | E11: ポジション | F11: 身長 | G11: 最高到達点 | H11: 出身校 | I11: コメント（必ず記入して下さい）

Sheet パンフレット１
B1: 選手名紹介
B3: =エントリー表・１部!B4 -> 1部 位 | D3: =エントリー表・１部!B2 -> 0
A5: ここにチーム写真を貼り付けてください。 ユニフォームの背番号と選手、スタッフの顔がはっきり見えるように整列し、 撮影してください。 パンフレットに掲載するにあたって適切な写真を張り付けてください。 中国学連が不適切と判断した場合は再提出を求めます。
A29: 2026 CHUGOKU VOLLEYBALL LEAGUE
B31: ここに 個人写真を 張り付けて ください | D31: ここに 個人写真を 張り付けて ください | F31: ここに 個人写真を 張り付けて ください | H31: ここに 個人写真を 張り付けて ください | J31: ここに 個人写真を 張り付けて ください | L31: ここに 個人写真を 張り付けて ください
B38: 部長 | D38: 監督 | F38: コーチ | H38: トレーナー | J38: マネージャー | L38: 主将
B39: =エントリー表・１部!B5 -> 0 | D39: =エントリー表・１部!B6 -> 0 | F39: =エントリー表・１部!B7 -> 0 | H39: =エントリー表・１部!B8 -> 0 | J39: =エントリー表・１部!B9 -> 0 | L39: =エントリー表・１部!B10 -> 0
A43: チーム紹介
B45: =エントリー表・１部!E5 -> 0

Sheet パンフレット２
D2: =エントリー表・１部!C12 -> 0 | H2: =エントリー表・１部!C13 -> 0 | L2: =エントリー表・１部!C14 -> 0 | P2: =エントリー表・１部!C15 -> 0
B3: ここに 個人写真を 張り付けて ください | D3: =CONCATENATE(エントリー表・１部!A12,"・",エントリー表・１部!B12) -> ・ | F3: ここに 個人写真を 張り付けて ください | H3: =CONCATENATE(エントリー表・１部!A13,"・",エントリー表・１部!B13) -> ・ | J3: ここに 個人写真を 張り付けて ください | L3: =CONCATENATE(エントリー表・１部!A14,"・",エントリー表・１部!B14) -> ・ | N3: ここに 個人写真を 張り付けて ください | P3: =CONCATENATE(エントリー表・１部!A15,"・",エントリー表・１部!B15) -> ・
D4: =CONCATENATE(エントリー表・１部!D12,"年","・",エントリー表・１部!F12,"cm") -> 年・cm | H4: =CONCATENATE(エントリー表・１部!D13,"年","・",エントリー表・１部!F13,"cm") -> 年・cm | L4: =CONCATENATE(エントリー表・１部!D14,"年","・",エントリー表・１部!F14,"cm") -> 年・cm | P4: =CONCATENATE(エントリー表・１部!D15,"年","・",エントリー表・１部!F15,"cm") -> 年・cm
D5: =CONCATENATE(エントリー表・１部!E12,"・",エントリー表・１部!G12,"cm") -> ・cm | H5: =CONCATENATE(エントリー表・１部!E13,"・",エントリー表・１部!G13,"cm") -> ・cm | L5: =CONCATENATE(エントリー表・１部!E14,"・",エントリー表・１部!G14,"cm") -> ・cm | P5: =CONCATENATE(エントリー表・１部!E15,"・",エントリー表・１部!G15,"cm") -> ・cm
D6: =エントリー表・１部!H12 -> 0 | H6: =エントリー表・１部!H13 -> 0 | L6: =エントリー表・１部!H14 -> 0 | P6: =エントリー表・１部!H15 -> 0
D7: =エントリー表・１部!I12 -> 0 | H7: =エントリー表・１部!I13 -> 0 | L7: =エントリー表・１部!I14 -> 0 | P7: =エントリー表・１部!I15 -> 0
D11: =エントリー表・１部!C16 -> 0 | H11: =エントリー表・１部!C17 -> 0 | L11: =エントリー表・１部!C18 -> 0 | P11: =エントリー表・１部!C19 -> 0
B12: ここに 個人写真を 張り付けて ください | D12: =CONCATENATE(エントリー表・１部!A16,"・",エントリー表・１部!B16) -> ・ | F12: ここに 個人写真を 張り付けて ください | H12: =CONCATENATE(エントリー表・１部!A17,"・",エントリー表・１部!B17) -> ・ | J12: ここに 個人写真を 張り付けて ください | L12: =CONCATENATE(エントリー表・１部!A18,"・",エントリー表・１部!B18) -> ・ | N12: ここに 個人写真を 張り付けて ください | P12: =CONCATENATE(エントリー表・１部!A19,"・",エントリー表・１部!B19) -> ・
D13: =CONCATENATE(エントリー表・１部!D16,"年","・",エントリー表・１部!F16,"cm") -> 年・cm | H13: =CONCATENATE(エントリー表・１部!D17,"年","・",エントリー表・１部!F17,"cm") -> 年・cm | L13: =CONCATENATE(エントリー表・１部!D18,"年","・",エントリー表・１部!F18,"cm") -> 年・cm | P13: =CONCATENATE(エントリー表・１部!D19,"年","・",エントリー表・１部!F19,"cm") -> 年・cm
D14: =CONCATENATE(エントリー表・１部!E16,"・",エントリー表・１部!G16,"cm") -> ・cm | H14: =CONCATENATE(エントリー表・１部!E17,"・",エントリー表・１部!G17,"cm") -> ・cm | L14: =CONCATENATE(エントリー表・１部!E18,"・",エントリー表・１部!G18,"cm") -> ・cm | P14: =CONCATENATE(エントリー表・１部!E19,"・",エントリー表・１部!G19,"cm") -> ・cm
D15: =エントリー表・１部!H16 -> 0 | H15: =エントリー表・１部!H17 -> 0 | L15: =エントリー表・１部!H18 -> 0 | P15: =エントリー表・１部!H19 -> 0
D16: =エントリー表・１部!I16 -> 0 | H16: =エントリー表・１部!I17 -> 0 | L16: =エントリー表・１部!I18 -> 0 | P16: =エントリー表・１部!I19 -> 0
D20: =エントリー表・１部!C20 -> 0 | H20: =エントリー表・１部!C21 -> 0 | L20: =エントリー表・１部!C22 -> 0 | P20: =エントリー表・１部!C23 -> 0
B21: ここに 個人写真を 張り付けて ください | D21: =CONCATENATE(エントリー表・１部!A20,"・",エントリー表・１部!B20) -> ・ | F21: ここに 個人写真を 張り付けて ください | H21: =CONCATENATE(エントリー表・１部!A21,"・",エントリー表・１部!B21) -> ・ | J21: ここに 個人写真を 張り付けて ください | L21: =CONCATENATE(エントリー表・１部!A22,"・",エントリー表・１部!B22) -> ・ | N21: ここに 個人写真を 張り付けて ください | P21: =CONCATENATE(エントリー表・１部!A23,"・",エントリー表・１部!B23) -> ・
D22: =CONCATENATE(エントリー表・１部!D20,"年","・",エントリー表・１部!F20,"cm") -> 年・cm | H22: =CONCATENATE(エントリー表・１部!D21,"年","・",エントリー表・１部!F21,"cm") -> 年・cm | L22: =CONCATENATE(エントリー表・１部!D22,"年","・",エントリー表・１部!F22,"cm") -> 年・cm | P22: =CONCATENATE(エントリー表・１部!D23,"年","・",エントリー表・１部!F23,"cm") -> 年・cm
D23: =CONCATENATE(エントリー表・１部!E20,"・",エントリー表・１部!G20,"cm") -> ・cm | H23: =CONCATENATE(エントリー表・１部!E21,"・",エントリー表・１部!G21,"cm") -> ・cm | L23: =CONCATENATE(エントリー表・１部!E22,"・",エントリー表・１部!G22,"cm") -> ・cm | P23: =CONCATENATE(エントリー表・１部!E23,"・",エントリー表・１部!G23,"cm") -> ・cm
D24: =エントリー表・１部!H20 -> 0 | H24: =エントリー表・１部!H21 -> 0 | L24: =エントリー表・１部!H22 -> 0 | P24: =エントリー表・１部!H23 -> 0
D25: =エントリー表・１部!I20 -> 0 | H25: =エントリー表・１部!I21 -> 0 | L25: =エントリー表・１部!I22 -> 0 | P25: =エントリー表・１部!I23 -> 0
D29: =エントリー表・１部!C24 -> 0 | H29: =エントリー表・１部!C25 -> 0 | L29: =エントリー表・１部!C26 -> 0 | P29: =エントリー表・１部!C27 -> 0
B30: ここに 個人写真を 張り付けて ください | D30: =CONCATENATE(エントリー表・１部!A24,"・",エントリー表・１部!B24) -> ・ | F30: ここに 個人写真を 張り付けて ください | H30: =CONCATENATE(エントリー表・１部!A25,"・",エントリー表・１部!B25) -> ・ | J30: ここに 個人写真を 張り付けて ください | L30: =CONCATENATE(エントリー表・１部!A26,"・",エントリー表・１部!B26) -> ・ | N30: ここに 個人写真を 張り付けて ください | P30: =CONCATENATE(エントリー表・１部!A27,"・",エントリー表・１部!B27) -> ・
D31: =CONCATENATE(エントリー表・１部!D24,"年","・",エントリー表・１部!F24,"cm") -> 年・cm | H31: =CONCATENATE(エントリー表・１部!D25,"年","・",エントリー表・１部!F25,"cm") -> 年・cm | L31: =CONCATENATE(エントリー表・１部!D26,"年","・",エントリー表・１部!F26,"cm") -> 年・cm | P31: =CONCATENATE(エントリー表・１部!D27,"年","・",エントリー表・１部!F27,"cm") -> 年・cm
D32: =CONCATENATE(エントリー表・１部!E24,"・",エントリー表・１部!G24,"cm") -> ・cm | H32: =CONCATENATE(エントリー表・１部!E25,"・",エントリー表・１部!G25,"cm") -> ・cm | L32: =CONCATENATE(エントリー表・１部!E26,"・",エントリー表・１部!G26,"cm") -> ・cm | P32: =CONCATENATE(エントリー表・１部!E27,"・",エントリー表・１部!G27,"cm") -> ・cm
D33: =エントリー表・１部!H24 -> 0 | H33: =エントリー表・１部!H25 -> 0 | L33: =エントリー表・１部!H26 -> 0 | P33: =エントリー表・１部!H27 -> 0
D34: =エントリー表・１部!I24 -> 0 | H34: =エントリー表・１部!I25 -> 0 | L34: =エントリー表・１部!I26 -> 0 | P34: =エントリー表・１部!I27 -> 0
D38: =エントリー表・１部!C28 -> 0 | H38: =エントリー表・１部!C29 -> 0 | L38: =エントリー表・１部!C30 -> 0 | P38: =エントリー表・１部!C31 -> 0
B39: ここに 個人写真を 張り付けて ください | D39: =CONCATENATE(エントリー表・１部!A28,"・",エントリー表・１部!B28) -> ・ | F39: ここに 個人写真を 張り付けて ください | H39: =CONCATENATE(エントリー表・１部!A29,"・",エントリー表・１部!B29) -> ・ | J39: ここに 個人写真を 張り付けて ください | L39: =CONCATENATE(エントリー表・１部!A30,"・",エントリー表・１部!B30) -> ・ | N39: ここに 個人写真を 張り付けて ください | P39: =CONCATENATE(エントリー表・１部!A31,"・",エントリー表・１部!B31) -> ・
D40: =CONCATENATE(エントリー表・１部!D28,"年","・",エントリー表・１部!F28,"cm") -> 年・cm | H40: =CONCATENATE(エントリー表・１部!D29,"年","・",エントリー表・１部!F29,"cm") -> 年・cm | L40: =CONCATENATE(エントリー表・１部!D30,"年","・",エントリー表・１部!F30,"cm") -> 年・cm | P40: =CONCATENATE(エントリー表・１部!D31,"年","・",エントリー表・１部!F31,"cm") -> 年・cm
D41: =CONCATENATE(エントリー表・１部!E28,"・",エントリー表・１部!G28,"cm") -> ・cm | H41: =CONCATENATE(エントリー表・１部!E29,"・",エントリー表・１部!G29,"cm") -> ・cm | L41: =CONCATENATE(エントリー表・１部!E30,"・",エントリー表・１部!G30,"cm") -> ・cm | P41: =CONCATENATE(エントリー表・１部!E31,"・",エントリー表・１部!G31,"cm") -> ・cm
D42: =エントリー表・１部!H28 -> 0 | H42: =エントリー表・１部!H29 -> 0 | L42: =エントリー表・１部!H30 -> 0 | P42: =エントリー表・１部!H31 -> 0
D43: =エントリー表・１部!I28 -> 0 | H43: =エントリー表・１部!I29 -> 0 | L43: =エントリー表・１部!I30 -> 0 | P43: =エントリー表・１部!I31 -> 0
D47: =エントリー表・１部!C32 -> 0 | H47: =エントリー表・１部!C33 -> 0 | L47: =エントリー表・１部!C34 -> 0 | P47: =エントリー表・１部!C35 -> 0
B48: ここに 個人写真を 張り付けて ください | D48: =CONCATENATE(エントリー表・１部!A32,"・",エントリー表・１部!B32) -> ・ | F48: ここに 個人写真を 張り付けて ください | H48: =CONCATENATE(エントリー表・１部!A33,"・",エントリー表・１部!B33) -> ・ | J48: ここに 個人写真を 張り付けて ください | L48: =CONCATENATE(エントリー表・１部!A34,"・",エントリー表・１部!B34) -> ・ | N48: ここに 個人写真を 張り付けて ください | P48: =CONCATENATE(エントリー表・１部!A35,"・",エントリー表・１部!B35) -> ・
D49: =CONCATENATE(エントリー表・１部!D32,"年","・",エントリー表・１部!F32,"cm") -> 年・cm | H49: =CONCATENATE(エントリー表・１部!D33,"年","・",エントリー表・１部!F33,"cm") -> 年・cm | L49: =CONCATENATE(エントリー表・１部!D34,"年","・",エントリー表・１部!F34,"cm") -> 年・cm | P49: =CONCATENATE(エントリー表・１部!D35,"年","・",エントリー表・１部!F35,"cm") -> 年・cm
D50: =CONCATENATE(エントリー表・１部!E32,"・",エントリー表・１部!G32,"cm") -> ・cm | H50: =CONCATENATE(エントリー表・１部!E33,"・",エントリー表・１部!G33,"cm") -> ・cm | L50: =CONCATENATE(エントリー表・１部!E34,"・",エントリー表・１部!G34,"cm") -> ・cm | P50: =CONCATENATE(エントリー表・１部!E35,"・",エントリー表・１部!G35,"cm") -> ・cm
D51: =エントリー表・１部!H32 -> 0 | H51: =エントリー表・１部!H33 -> 0 | L51: =エントリー表・１部!H34 -> 0 | P51: =エントリー表・１部!H35 -> 0
D52: =エントリー表・１部!I32 -> 0 | H52: =エントリー表・１部!I33 -> 0 | L52: =エントリー表・１部!I34 -> 0 | P52: =エントリー表・１部!I35 -> 0
D56: =エントリー表・１部!C36 -> 0 | H56: =エントリー表・１部!C37 -> 0 | L56: =エントリー表・１部!C38 -> 0 | P56: =エントリー表・１部!C39 -> 0
B57: ここに 個人写真を 張り付けて ください | D57: =CONCATENATE(エントリー表・１部!A36,"・",エントリー表・１部!B36) -> ・ | F57: ここに 個人写真を 張り付けて ください | H57: =CONCATENATE(エントリー表・１部!A37,"・",エントリー表・１部!B37) -> ・ | J57: ここに 個人写真を 張り付けて ください | L57: =CONCATENATE(エントリー表・１部!A38,"・",エントリー表・１部!B38) -> ・ | N57: ここに 個人写真を 張り付けて ください | P57: =CONCATENATE(エントリー表・１部!A39,"・",エントリー表・１部!B39) -> ・
D58: =CONCATENATE(エントリー表・１部!D36,"年","・",エントリー表・１部!F36,"cm") -> 年・cm | H58: =CONCATENATE(エントリー表・１部!D37,"年","・",エントリー表・１部!F37,"cm") -> 年・cm | L58: =CONCATENATE(エントリー表・１部!D38,"年","・",エントリー表・１部!F38,"cm") -> 年・cm | P58: =CONCATENATE(エントリー表・１部!D39,"年","・",エントリー表・１部!F39,"cm") -> 年・cm
D59: =CONCATENATE(エントリー表・１部!E36,"・",エントリー表・１部!G36,"cm") -> ・cm | H59: =CONCATENATE(エントリー表・１部!E37,"・",エントリー表・１部!G37,"cm") -> ・cm | L59: =CONCATENATE(エントリー表・１部!E38,"・",エントリー表・１部!G38,"cm") -> ・cm | P59: =CONCATENATE(エントリー表・１部!E39,"・",エントリー表・１部!G39,"cm") -> ・cm
D60: =エントリー表・１部!H36 -> 0 | H60: =エントリー表・１部!H37 -> 0 | L60: =エントリー表・１部!H38 -> 0 | P60: =エントリー表・１部!H39 -> 0
D61: =エントリー表・１部!I36 -> 0 | H61: =エントリー表・１部!I37 -> 0 | L61: =エントリー表・１部!I38 -> 0 | P61: =エントリー表・１部!I39 -> 0
D65: =エントリー表・１部!C40 -> 0 | H65: =エントリー表・１部!C41 -> 0 | L65: =エントリー表・１部!C42 -> 0 | P65: =エントリー表・１部!C43 -> 0
B66: ここに 個人写真を 張り付けて ください | D66: =CONCATENATE(エントリー表・１部!A40,"・",エントリー表・１部!B40) -> ・ | F66: ここに 個人写真を 張り付けて ください | H66: =CONCATENATE(エントリー表・１部!A41,"・",エントリー表・１部!B41) -> ・ | J66: ここに 個人写真を 張り付けて ください | L66: =CONCATENATE(エントリー表・１部!A42,"・",エントリー表・１部!B42) -> ・ | N66: ここに 個人写真を 張り付けて ください | P66: =CONCATENATE(エントリー表・１部!A43,"・",エントリー表・１部!B43) -> ・
D67: =CONCATENATE(エントリー表・１部!D40,"年","・",エントリー表・１部!F40,"cm") -> 年・cm | H67: =CONCATENATE(エントリー表・１部!D41,"年","・",エントリー表・１部!F41,"cm") -> 年・cm | L67: =CONCATENATE(エントリー表・１部!D42,"年","・",エントリー表・１部!F42,"cm") -> 年・cm | P67: =CONCATENATE(エントリー表・１部!D43,"年","・",エントリー表・１部!F43,"cm") -> 年・cm
D68: =CONCATENATE(エントリー表・１部!E40,"・",エントリー表・１部!G40,"cm") -> ・cm | H68: =CONCATENATE(エントリー表・１部!E41,"・",エントリー表・１部!G41,"cm") -> ・cm | L68: =CONCATENATE(エントリー表・１部!E42,"・",エントリー表・１部!G42,"cm") -> ・cm | P68: =CONCATENATE(エントリー表・１部!E43,"・",エントリー表・１部!G43,"cm") -> ・cm
D69: =エントリー表・１部!H40 -> 0 | H69: =エントリー表・１部!H41 -> 0 | L69: =エントリー表・１部!H42 -> 0 | P69: =エントリー表・１部!H43 -> 0
D70: =エントリー表・１部!I40 -> 0 | H70: =エントリー表・１部!I41 -> 0 | L70: =エントリー表・１部!I42 -> 0 | P70: =エントリー表・１部!I43 -> 0
D74: =エントリー表・１部!C44 -> 0 | H74: =エントリー表・１部!C45 -> 0 | L74: =エントリー表・１部!C46 -> 0 | P74: =エントリー表・１部!C47 -> 0
B75: ここに 個人写真を 張り付けて ください | D75: =CONCATENATE(エントリー表・１部!A44,"・",エントリー表・１部!B44) -> ・ | F75: ここに 個人写真を 張り付けて ください | H75: =CONCATENATE(エントリー表・１部!A45,"・",エントリー表・１部!B45) -> ・ | J75: ここに 個人写真を 張り付けて ください | L75: =CONCATENATE(エントリー表・１部!A46,"・",エントリー表・１部!B46) -> ・ | N75: ここに 個人写真を 張り付けて ください | P75: =CONCATENATE(エントリー表・１部!A47,"・",エントリー表・１部!B47) -> ・
D76: =CONCATENATE(エントリー表・１部!D44,"年","・",エントリー表・１部!F44,"cm") -> 年・cm | H76: =CONCATENATE(エントリー表・１部!D45,"年","・",エントリー表・１部!F45,"cm") -> 年・cm | L76: =CONCATENATE(エントリー表・１部!D46,"年","・",エントリー表・１部!F46,"cm") -> 年・cm | P76: =CONCATENATE(エントリー表・１部!D47,"年","・",エントリー表・１部!F47,"cm") -> 年・cm
D77: =CONCATENATE(エントリー表・１部!E44,"・",エントリー表・１部!G44,"cm") -> ・cm | H77: =CONCATENATE(エントリー表・１部!E45,"・",エントリー表・１部!G45,"cm") -> ・cm | L77: =CONCATENATE(エントリー表・１部!E46,"・",エントリー表・１部!G46,"cm") -> ・cm | P77: =CONCATENATE(エントリー表・１部!E47,"・",エントリー表・１部!G47,"cm") -> ・cm
D78: =エントリー表・１部!H44 -> 0 | H78: =エントリー表・１部!H45 -> 0 | L78: =エントリー表・１部!H46 -> 0 | P78: =エントリー表・１部!H47 -> 0
D79: =エントリー表・１部!I44 -> 0 | H79: =エントリー表・１部!I45 -> 0 | L79: =エントリー表・１部!I46 -> 0 | P79: =エントリー表・１部!I47 -> 0
D84: =エントリー表・１部!C48 -> 0 | H84: =エントリー表・１部!C49 -> 0 | L84: =エントリー表・１部!C50 -> 0 | P84: =エントリー表・１部!C51 -> 0
B85: ここに 個人写真を 張り付けて ください | D85: =CONCATENATE(エントリー表・１部!A48,"・",エントリー表・１部!B48) -> ・ | F85: ここに 個人写真を 張り付けて ください | H85: =CONCATENATE(エントリー表・１部!A49,"・",エントリー表・１部!B49) -> ・ | J85: ここに 個人写真を 張り付けて ください | L85: =CONCATENATE(エントリー表・１部!A50,"・",エントリー表・１部!B50) -> ・ | N85: ここに 個人写真を 張り付けて ください | P85: =CONCATENATE(エントリー表・１部!A51,"・",エントリー表・１部!B51) -> ・
D86: =CONCATENATE(エントリー表・１部!D48,"年","・",エントリー表・１部!F48,"cm") -> 年・cm | H86: =CONCATENATE(エントリー表・１部!D49,"年","・",エントリー表・１部!F49,"cm") -> 年・cm | L86: =CONCATENATE(エントリー表・１部!D50,"年","・",エントリー表・１部!F50,"cm") -> 年・cm | P86: =CONCATENATE(エントリー表・１部!D51,"年","・",エントリー表・１部!F51,"cm") -> 年・cm
D87: =CONCATENATE(エントリー表・１部!E48,"・",エントリー表・１部!G48,"cm") -> ・cm | H87: =CONCATENATE(エントリー表・１部!E49,"・",エントリー表・１部!G49,"cm") -> ・cm | L87: =CONCATENATE(エントリー表・１部!E50,"・",エントリー表・１部!G50,"cm") -> ・cm | P87: =CONCATENATE(エントリー表・１部!E51,"・",エントリー表・１部!G51,"cm") -> ・cm
D88: =エントリー表・１部!H48 -> 0 | H88: =エントリー表・１部!H49 -> 0 | L88: =エントリー表・１部!H50 -> 0 | P88: =エントリー表・１部!H51 -> 0
D89: =エントリー表・１部!I48 -> 0 | H89: =エントリー表・１部!I49 -> 0 | L89: =エントリー表・１部!I50 -> 0 | P89: =エントリー表・１部!I51 -> 0
D93: =エントリー表・１部!C52 -> 0 | H93: =エントリー表・１部!C53 -> 0 | L93: =エントリー表・１部!C54 -> 0 | P93: =エントリー表・１部!C55 -> 0
B94: ここに 個人写真を 張り付けて ください | D94: =CONCATENATE(エントリー表・１部!A52,"・",エントリー表・１部!B52) -> ・ | F94: ここに 個人写真を 張り付けて ください | H94: =CONCATENATE(エントリー表・１部!A53,"・",エントリー表・１部!B53) -> ・ | J94: ここに 個人写真を 張り付けて ください | L94: =CONCATENATE(エントリー表・１部!A54,"・",エントリー表・１部!B54) -> ・ | N94: ここに 個人写真を 張り付けて ください | P94: =CONCATENATE(エントリー表・１部!A55,"・",エントリー表・１部!B55) -> ・
D95: =CONCATENATE(エントリー表・１部!D52,"年","・",エントリー表・１部!F52,"cm") -> 年・cm | H95: =CONCATENATE(エントリー表・１部!D53,"年","・",エントリー表・１部!F53,"cm") -> 年・cm | L95: =CONCATENATE(エントリー表・１部!D54,"年","・",エントリー表・１部!F54,"cm") -> 年・cm | P95: =CONCATENATE(エントリー表・１部!D55,"年","・",エントリー表・１部!F55,"cm") -> 年・cm
D96: =CONCATENATE(エントリー表・１部!E52,"・",エントリー表・１部!G52,"cm") -> ・cm | H96: =CONCATENATE(エントリー表・１部!E53,"・",エントリー表・１部!G53,"cm") -> ・cm | L96: =CONCATENATE(エントリー表・１部!E54,"・",エントリー表・１部!G54,"cm") -> ・cm | P96: =CONCATENATE(エントリー表・１部!E55,"・",エントリー表・１部!G55,"cm") -> ・cm
D97: =エントリー表・１部!H52 -> 0 | H97: =エントリー表・１部!H53 -> 0 | L97: =エントリー表・１部!H54 -> 0 | P97: =エントリー表・１部!H55 -> 0
D98: =エントリー表・１部!I52 -> 0 | H98: =エントリー表・１部!I53 -> 0 | L98: =エントリー表・１部!I54 -> 0 | P98: =エントリー表・１部!I55 -> 0
D102: =エントリー表・１部!C56 -> 0 | H102: =エントリー表・１部!C57 -> 0 | L102: =エントリー表・１部!C58 -> 0 | P102: =エントリー表・１部!C59 -> 0
B103: ここに 個人写真を 張り付けて ください | D103: =CONCATENATE(エントリー表・１部!A56,"・",エントリー表・１部!B56) -> ・ | F103: ここに 個人写真を 張り付けて ください | H103: =CONCATENATE(エントリー表・１部!A57,"・",エントリー表・１部!B57) -> ・ | J103: ここに 個人写真を 張り付けて ください | L103: =CONCATENATE(エントリー表・１部!A58,"・",エントリー表・１部!B58) -> ・ | N103: ここに 個人写真を 張り付けて ください | P103: =CONCATENATE(エントリー表・１部!A59,"・",エントリー表・１部!B59) -> ・
D104: =CONCATENATE(エントリー表・１部!D56,"年","・",エントリー表・１部!F56,"cm") -> 年・cm | H104: =CONCATENATE(エントリー表・１部!D57,"年","・",エントリー表・１部!F57,"cm") -> 年・cm | L104: =CONCATENATE(エントリー表・１部!D58,"年","・",エントリー表・１部!F58,"cm") -> 年・cm | P104: =CONCATENATE(エントリー表・１部!D59,"年","・",エントリー表・１部!F59,"cm") -> 年・cm
D105: =CONCATENATE(エントリー表・１部!E56,"・",エントリー表・１部!G56,"cm") -> ・cm | H105: =CONCATENATE(エントリー表・１部!E57,"・",エントリー表・１部!G57,"cm") -> ・cm | L105: =CONCATENATE(エントリー表・１部!E58,"・",エントリー表・１部!G58,"cm") -> ・cm | P105: =CONCATENATE(エントリー表・１部!E59,"・",エントリー表・１部!G59,"cm") -> ・cm
D106: =エントリー表・１部!H56 -> 0 | H106: =エントリー表・１部!H57 -> 0 | L106: =エントリー表・１部!H58 -> 0 | P106: =エントリー表・１部!H59 -> 0
D107: =エントリー表・１部!I56 -> 0 | H107: =エントリー表・１部!I57 -> 0 | L107: =エントリー表・１部!I58 -> 0 | P107: =エントリー表・１部!I59 -> 0
D111: =エントリー表・１部!C60 -> 0 | H111: =エントリー表・１部!C61 -> 0 | L111: =エントリー表・１部!C62 -> 0 | P111: =エントリー表・１部!C63 -> 0
B112: ここに 個人写真を 張り付けて ください | D112: =CONCATENATE(エントリー表・１部!A60,"・",エントリー表・１部!B60) -> ・ | F112: ここに 個人写真を 張り付けて ください | H112: =CONCATENATE(エントリー表・１部!A61,"・",エントリー表・１部!B61) -> ・ | J112: ここに 個人写真を 張り付けて ください | L112: =CONCATENATE(エントリー表・１部!A62,"・",エントリー表・１部!B62) -> ・ | N112: ここに 個人写真を 張り付けて ください | P112: =CONCATENATE(エントリー表・１部!A63,"・",エントリー表・１部!B63) -> ・
D113: =CONCATENATE(エントリー表・１部!D60,"年","・",エントリー表・１部!F60,"cm") -> 年・cm | H113: =CONCATENATE(エントリー表・１部!D61,"年","・",エントリー表・１部!F61,"cm") -> 年・cm | L113: =CONCATENATE(エントリー表・１部!D62,"年","・",エントリー表・１部!F62,"cm") -> 年・cm | P113: =CONCATENATE(エントリー表・１部!D63,"年","・",エントリー表・１部!F63,"cm") -> 年・cm
D114: =CONCATENATE(エントリー表・１部!E60,"・",エントリー表・１部!G60,"cm") -> ・cm | H114: =CONCATENATE(エントリー表・１部!E61,"・",エントリー表・１部!G61,"cm") -> ・cm | L114: =CONCATENATE(エントリー表・１部!E62,"・",エントリー表・１部!G62,"cm") -> ・cm | P114: =CONCATENATE(エントリー表・１部!E63,"・",エントリー表・１部!G63,"cm") -> ・cm
D115: =エントリー表・１部!H60 -> 0 | H115: =エントリー表・１部!H61 -> 0 | L115: =エントリー表・１部!H62 -> 0 | P115: =エントリー表・１部!H63 -> 0
D116: =エントリー表・１部!I60 -> 0 | H116: =エントリー表・１部!I61 -> 0 | L116: =エントリー表・１部!I62 -> 0 | P116: =エントリー表・１部!I63 -> 0
D120: =エントリー表・１部!C64 -> 0 | H120: =エントリー表・１部!C65 -> 0 | L120: =エントリー表・１部!C66 -> 0 | P120: =エントリー表・１部!C67 -> 0
B121: ここに 個人写真を 張り付けて ください | D121: =CONCATENATE(エントリー表・１部!A64,"・",エントリー表・１部!B64) -> ・ | F121: ここに 個人写真を 張り付けて ください | H121: =CONCATENATE(エントリー表・１部!A65,"・",エントリー表・１部!B65) -> ・ | J121: ここに 個人写真を 張り付けて ください | L121: =CONCATENATE(エントリー表・１部!A66,"・",エントリー表・１部!B66) -> ・ | N121: ここに 個人写真を 張り付けて ください | P121: =CONCATENATE(エントリー表・１部!A67,"・",エントリー表・１部!B67) -> ・
D122: =CONCATENATE(エントリー表・１部!D64,"年","・",エントリー表・１部!F64,"cm") -> 年・cm | H122: =CONCATENATE(エントリー表・１部!D65,"年","・",エントリー表・１部!F65,"cm") -> 年・cm | L122: =CONCATENATE(エントリー表・１部!D66,"年","・",エントリー表・１部!F66,"cm") -> 年・cm | P122: =CONCATENATE(エントリー表・１部!D67,"年","・",エントリー表・１部!F67,"cm") -> 年・cm
D123: =CONCATENATE(エントリー表・１部!E64,"・",エントリー表・１部!G64,"cm") -> ・cm | H123: =CONCATENATE(エントリー表・１部!E65,"・",エントリー表・１部!G65,"cm") -> ・cm | L123: =CONCATENATE(エントリー表・１部!E66,"・",エントリー表・１部!G66,"cm") -> ・cm | P123: =CONCATENATE(エントリー表・１部!E67,"・",エントリー表・１部!G67,"cm") -> ・cm
D124: =エントリー表・１部!H64 -> 0 | H124: =エントリー表・１部!H65 -> 0 | L124: =エントリー表・１部!H66 -> 0 | P124: =エントリー表・１部!H67 -> 0
D125: =エントリー表・１部!I64 -> 0 | H125: =エントリー表・１部!I65 -> 0 | L125: =エントリー表・１部!I66 -> 0 | P125: =エントリー表・１部!I67 -> 0
D129: =エントリー表・１部!C68 -> 0 | H129: =エントリー表・１部!C69 -> 0 | L129: =エントリー表・１部!C70 -> 0 | P129: =エントリー表・１部!C71 -> 0
B130: ここに 個人写真を 張り付けて ください | D130: =CONCATENATE(エントリー表・１部!A68,"・",エントリー表・１部!B68) -> ・ | F130: ここに 個人写真を 張り付けて ください | H130: =CONCATENATE(エントリー表・１部!A69,"・",エントリー表・１部!B69) -> ・ | J130: ここに 個人写真を 張り付けて ください | L130: =CONCATENATE(エントリー表・１部!A70,"・",エントリー表・１部!B70) -> ・ | N130: ここに 個人写真を 張り付けて ください | P130: =CONCATENATE(エントリー表・１部!A71,"・",エントリー表・１部!B71) -> ・
D131: =CONCATENATE(エントリー表・１部!D68,"年","・",エントリー表・１部!F68,"cm") -> 年・cm | H131: =CONCATENATE(エントリー表・１部!D69,"年","・",エントリー表・１部!F69,"cm") -> 年・cm | L131: =CONCATENATE(エントリー表・１部!D70,"年","・",エントリー表・１部!F70,"cm") -> 年・cm | P131: =CONCATENATE(エントリー表・１部!D71,"年","・",エントリー表・１部!F71,"cm") -> 年・cm
D132: =CONCATENATE(エントリー表・１部!E68,"・",エントリー表・１部!G68,"cm") -> ・cm | H132: =CONCATENATE(エントリー表・１部!E69,"・",エントリー表・１部!G69,"cm") -> ・cm | L132: =CONCATENATE(エントリー表・１部!E70,"・",エントリー表・１部!G70,"cm") -> ・cm | P132: =CONCATENATE(エントリー表・１部!E71,"・",エントリー表・１部!G71,"cm") -> ・cm
D133: =エントリー表・１部!H68 -> 0 | H133: =エントリー表・１部!H69 -> 0 | L133: =エントリー表・１部!H70 -> 0 | P133: =エントリー表・１部!H71 -> 0
D134: =エントリー表・１部!I68 -> 0 | H134: =エントリー表・１部!I69 -> 0 | L134: =エントリー表・１部!I70 -> 0 | P134: =エントリー表・１部!I71 -> 0
